BEGIN:VCALENDAR
VERSION:2.0
PRODID:-//Trinity Lanham - ECPv6.15.20//NONSGML v1.0//EN
CALSCALE:GREGORIAN
METHOD:PUBLISH
X-ORIGINAL-URL:https://trinitylanham.org
X-WR-CALDESC:Events for Trinity Lanham
REFRESH-INTERVAL;VALUE=DURATION:PT1H
X-Robots-Tag:noindex
X-PUBLISHED-TTL:PT1H
BEGIN:VTIMEZONE
TZID:America/New_York
BEGIN:DAYLIGHT
TZOFFSETFROM:-0500
TZOFFSETTO:-0400
TZNAME:EDT
DTSTART:20240310T070000
END:DAYLIGHT
BEGIN:STANDARD
TZOFFSETFROM:-0400
TZOFFSETTO:-0500
TZNAME:EST
DTSTART:20241103T060000
END:STANDARD
BEGIN:DAYLIGHT
TZOFFSETFROM:-0500
TZOFFSETTO:-0400
TZNAME:EDT
DTSTART:20250309T070000
END:DAYLIGHT
BEGIN:STANDARD
TZOFFSETFROM:-0400
TZOFFSETTO:-0500
TZNAME:EST
DTSTART:20251102T060000
END:STANDARD
BEGIN:DAYLIGHT
TZOFFSETFROM:-0500
TZOFFSETTO:-0400
TZNAME:EDT
DTSTART:20260308T070000
END:DAYLIGHT
BEGIN:STANDARD
TZOFFSETFROM:-0400
TZOFFSETTO:-0500
TZNAME:EST
DTSTART:20261101T060000
END:STANDARD
END:VTIMEZONE
BEGIN:VEVENT
DTSTART;TZID=America/New_York:20250614T140000
DTEND;TZID=America/New_York:20250614T170000
DTSTAMP:20260420T103531
CREATED:20250612T140036Z
LAST-MODIFIED:20250614T015300Z
UID:23056-1749909600-1749920400@trinitylanham.org
SUMMARY:CAR WASH!! Come Support
DESCRIPTION:  \nCommunity Support Needed!\nJoin Trinity Lanham SALT tomorrow from 2pm-5pm for our Youth Car wash event! We’ll be collecting donations. Bring your car and make a difference in our Youth’s future. \nWhat to bring: Donations (food\, clothing\, etc.) or your time\nSee you there! #TrinityLanham #SALTDrive #CarWash
URL:https://trinitylanham.org/event/car-wash-come-support-2/
LOCATION:Trinity Assembly Of God\, 7800 Good Luck Rd\, Lanham\, MD\, 20706-3505\, United States
ATTACH;FMTTYPE=image/jpeg:https://trinitylanham.org/wp-content/uploads/2025/06/2-scaled.jpg
ORGANIZER;CN="SALT":MAILTO:saltyouth24@gmail.com
END:VEVENT
END:VCALENDAR